BEGIN:VCALENDAR
VERSION:2.0
PRODID:-//Casa Feliz ChildCare - ECPv6.15.20//NONSGML v1.0//EN
CALSCALE:GREGORIAN
METHOD:PUBLISH
X-WR-CALNAME:Casa Feliz ChildCare
X-ORIGINAL-URL:https://casafelizchildcare.com
X-WR-CALDESC:Events for Casa Feliz ChildCare
REFRESH-INTERVAL;VALUE=DURATION:PT1H
X-Robots-Tag:noindex
X-PUBLISHED-TTL:PT1H
BEGIN:VTIMEZONE
TZID:America/Vancouver
BEGIN:DAYLIGHT
TZOFFSETFROM:-0800
TZOFFSETTO:-0700
TZNAME:PDT
DTSTART:20250309T100000
END:DAYLIGHT
BEGIN:STANDARD
TZOFFSETFROM:-0700
TZOFFSETTO:-0800
TZNAME:PST
DTSTART:20251102T090000
END:STANDARD
BEGIN:DAYLIGHT
TZOFFSETFROM:-0800
TZOFFSETTO:-0700
TZNAME:PDT
DTSTART:20260308T100000
END:DAYLIGHT
BEGIN:STANDARD
TZOFFSETFROM:-0700
TZOFFSETTO:-0800
TZNAME:PST
DTSTART:20261101T090000
END:STANDARD
BEGIN:DAYLIGHT
TZOFFSETFROM:-0800
TZOFFSETTO:-0700
TZNAME:PDT
DTSTART:20270314T100000
END:DAYLIGHT
BEGIN:STANDARD
TZOFFSETFROM:-0700
TZOFFSETTO:-0800
TZNAME:PST
DTSTART:20271107T090000
END:STANDARD
BEGIN:DAYLIGHT
TZOFFSETFROM:-0800
TZOFFSETTO:-0700
TZNAME:PDT
DTSTART:20280312T100000
END:DAYLIGHT
BEGIN:STANDARD
TZOFFSETFROM:-0700
TZOFFSETTO:-0800
TZNAME:PST
DTSTART:20281105T090000
END:STANDARD
END:VTIMEZONE
BEGIN:VEVENT
DTSTART;VALUE=DATE:20260525
DTEND;VALUE=DATE:20260526
DTSTAMP:20260423T074208
CREATED:20250709T205725Z
LAST-MODIFIED:20250709T205725Z
UID:6185-1779667200-1779753599@casafelizchildcare.com
SUMMARY:Memorial Day
DESCRIPTION:
URL:https://casafelizchildcare.com/event/memorial-day-2/
END:VEVENT
BEGIN:VEVENT
DTSTART;VALUE=DATE:20260629
DTEND;VALUE=DATE:20260702
DTSTAMP:20260423T074208
CREATED:20250709T204203Z
LAST-MODIFIED:20251204T210911Z
UID:6169-1782691200-1782950399@casafelizchildcare.com
SUMMARY:Summer Break - School Closed
DESCRIPTION:
URL:https://casafelizchildcare.com/event/summer-break-teacher-training/
END:VEVENT
BEGIN:VEVENT
DTSTART;VALUE=DATE:20260701
DTEND;VALUE=DATE:20260705
DTSTAMP:20260423T074208
CREATED:20250709T204305Z
LAST-MODIFIED:20250709T205315Z
UID:6171-1782864000-1783209599@casafelizchildcare.com
SUMMARY:Summer Break/Teacher Training
DESCRIPTION:
URL:https://casafelizchildcare.com/event/summer-break-teacher-training-2/
END:VEVENT
BEGIN:VEVENT
DTSTART;VALUE=DATE:20260704
DTEND;VALUE=DATE:20260705
DTSTAMP:20260423T074208
CREATED:20250709T205528Z
LAST-MODIFIED:20250709T205528Z
UID:6183-1783123200-1783209599@casafelizchildcare.com
SUMMARY:Independence Day
DESCRIPTION:
URL:https://casafelizchildcare.com/event/independence-day/
END:VEVENT
BEGIN:VEVENT
DTSTART;VALUE=DATE:20260907
DTEND;VALUE=DATE:20260908
DTSTAMP:20260423T074208
CREATED:20250709T204438Z
LAST-MODIFIED:20251204T210903Z
UID:6173-1788739200-1788825599@casafelizchildcare.com
SUMMARY:Labor Day - School Closed
DESCRIPTION:
URL:https://casafelizchildcare.com/event/labor-day-2/
END:VEVENT
BEGIN:VEVENT
DTSTART;VALUE=DATE:20261111
DTEND;VALUE=DATE:20261112
DTSTAMP:20260423T074208
CREATED:20250709T204546Z
LAST-MODIFIED:20251204T210840Z
UID:6177-1794355200-1794441599@casafelizchildcare.com
SUMMARY:Veteran’s Day - School Closed
DESCRIPTION:
URL:https://casafelizchildcare.com/event/veterans-day-2/
END:VEVENT
BEGIN:VEVENT
DTSTART;VALUE=DATE:20261123
DTEND;VALUE=DATE:20261129
DTSTAMP:20260423T074208
CREATED:20250709T204704Z
LAST-MODIFIED:20251204T210831Z
UID:6179-1795392000-1795910399@casafelizchildcare.com
SUMMARY:Thanksgiving Break - School Closed
DESCRIPTION:
URL:https://casafelizchildcare.com/event/thanksgiving-break-teacher-training-2/
END:VEVENT
BEGIN:VEVENT
DTSTART;VALUE=DATE:20261221
DTEND;VALUE=DATE:20270102
DTSTAMP:20260423T074208
CREATED:20250709T204742Z
LAST-MODIFIED:20251204T210743Z
UID:6181-1797811200-1798847999@casafelizchildcare.com
SUMMARY:Winter Break - School Closed
DESCRIPTION:
URL:https://casafelizchildcare.com/event/winter-break-2/
END:VEVENT
END:VCALENDAR